BEGIN:VCALENDAR
VERSION:2.0
PRODID:-//eventon.com NONSGML v1.0//EN
BEGIN:VEVENT
UID:69e4e201b6562
DTSTAMP:20260420T000905
DTSTART:20191018T230000Z
DTEND:20191019T040000Z
LOCATION:Ivorys Rock Mount Flinders Rd\,  Peak Crossing QLD 4306
SUMMARY:Peak Organics Market
DESCRIPTION: Peak Organics is a volunteer run orgnaically certified farm at Ivory's Rock\,  Peak Crossing\,  with a fantastic market open to the public every Saturday. Here is a place to pick up orgaic fruit and vegetables and basic wholefoods at down to earth prices in a beautiful country setting. https://www.facebook.com/peakorganicsativorysrock/?ref=hl &nbsp;
END:VEVENT
END:VCALENDAR