BEGIN:VCALENDAR
VERSION:2.0
PRODID:-//eventon.com NONSGML v1.0//EN
BEGIN:VEVENT
UID:69e896dd3441a
DTSTAMP:20260422T193733
DTSTART:20190403T233000Z
DTEND:20190404T001500Z
LOCATION:Ipswich Central Library 40 South Street
SUMMARY:Story Time - Amazing Animals
DESCRIPTION: Enjoy the magic and make new friends while exploring a different theme each month with stories\,  songs and movement. Share in the fun of stories\,  rhymes\,  songs and games to build important language and reading readiness skills.
END:VEVENT
END:VCALENDAR