BEGIN:VCALENDAR
VERSION:2.0
PRODID:-//eventon.com NONSGML v1.0//EN
BEGIN:VEVENT
UID:69e51d873130b
DTSTAMP:20260420T042303
DTSTART:20190409T230000Z
DTEND:20190410T010000Z
LOCATION:Ipswich Central Library 40 South Street
SUMMARY:School holiday fun: Nest building
DESCRIPTION: To prepare for the Ipswich Festival Parade of Light which is celebrating the theme 'Our Backyard'\,  drop in to Ipswich Central Library and help build a giant nest that will feature in the parade. Festival participation is encouraged but not required.
END:VEVENT
END:VCALENDAR