BEGIN:VCALENDAR
VERSION:2.0
PRODID:-//eventon.com NONSGML v1.0//EN
BEGIN:VEVENT
UID:69ea19f98ac15
DTSTAMP:20260423T230913
DTSTART:20190404T220000Z
DTEND:20190404T230000Z
LOCATION:Just Sport and Fitness Redbank Indoor Sports 1 Chalk Street\,  Redbank 
SUMMARY:All Age Fitness: Redbank
DESCRIPTION: Functional\,  Fun\,  Dynamic. Work at your own pace to promote healthy longevity. COST: $10 This event is listed on Council’s Active and Healthy Ipswich guide. Sign up details are via the Active and Healthy calendar (https://www.ipswich.qld.gov.au/residents/healthy_lifestyle/active-and-healthy-ipswich).
END:VEVENT
END:VCALENDAR