BEGIN:VCALENDAR
VERSION:2.0
PRODID:-//eventon.com NONSGML v1.0//EN
BEGIN:VEVENT
UID:69e8cb0d6f013
DTSTAMP:20260422T232013
DTSTART:20190415T220000Z
DTEND:20190415T224500Z
LOCATION:Robelle Domain Parklands 155 Southern Cross Circuit\,  Springfield Central
SUMMARY:Hula Hooping: Springfield
DESCRIPTION: Hula Hooping is an awesome all round fun exercise for all ages. Great for core & muscle strength\,  ordination\,  stress\,  weight loss. Class is for people aged 15 years and over. This event is listed on Council’s Active and Healthy Ipswich guide. Sign up details are via the Active and Healthy[..]
END:VEVENT
END:VCALENDAR