BEGIN:VCALENDAR
VERSION:2.0
PRODID:-//eventon.com NONSGML v1.0//EN
BEGIN:VEVENT
UID:69eb7577ea6f5
DTSTAMP:20260424T235151
DTSTART:20190407T231500Z
DTEND:20190408T001500Z
LOCATION:Ipswich Showgrounds 81 Warwick Road Ipswich 4305
SUMMARY:Boxing for Fitness: Showgrounds
DESCRIPTION: A boxing inspired workout using gloves\,  pads and circuit training.  A great total body workout for all ages. Cost: $29 for unlimited classes. This event is listed on Council’s Active and Healthy Ipswich guide. Sign up details are via the Active and Healthy calendar (https://www.ipswich.qld.gov.au/residents/healthy_lifestyle/active-and-healthy-ipswich).
END:VEVENT
END:VCALENDAR