BEGIN:VCALENDAR
VERSION:2.0
PRODID:-//eventon.com NONSGML v1.0//EN
BEGIN:VEVENT
UID:69ea3077aa44d
DTSTAMP:20260424T004511
DTSTART:20190409T030000Z
DTEND:20190409T063000Z
LOCATION:Humanities Building (Annex room) 56 South St\,  Ipswich
SUMMARY:Table Tennis (social doubles)
DESCRIPTION: Social and doubles games of table tennis. Cost: $2. This event is listed on Council’s Active and Healthy Ipswich guide. Sign up details are via the Active and Healthy calendar (https://www.ipswich.qld.gov.au/residents/healthy_lifestyle/active-and-healthy-ipswich).
END:VEVENT
END:VCALENDAR