BEGIN:VCALENDAR
VERSION:2.0
PRODID:-//eventon.com NONSGML v1.0//EN
BEGIN:VEVENT
UID:69e5445f5ad05
DTSTAMP:20260420T070847
DTSTART:20190408T073000Z
DTEND:20190408T081500Z
LOCATION:Just Sports n Fitness - Goodna Gym 6 Layard St\,  Goodna
SUMMARY:J45 (Boot Camp Circuit): Goodna
DESCRIPTION: J45 gives you a high intensity work out combining strength\,  conditioning and motivation\,  working in a fun team environment to challenge and push your body and mind. Cost $10 This event is listed on Council’s Active and Healthy Ipswich guide. Sign up details are via the Active and Healthy calendar[..]
END:VEVENT
END:VCALENDAR