BEGIN:VCALENDAR
VERSION:2.0
PRODID:-//eventon.com NONSGML v1.0//EN
BEGIN:VEVENT
UID:69e9fcb77954e
DTSTAMP:20260423T210423
DTSTART:20190409T231500Z
DTEND:20190410T000000Z
LOCATION:Just Sports n Fitness - Goodna Gym 6 Layard St\,  Goodna
SUMMARY:Team workout: Goodna
DESCRIPTION: Gives you a high intensity work out combining strength\,  conditioning and motivation\,  working in a fun team environment to challenge and push your body and mind. Cost -$10. This event is listed on Council’s Active and Healthy Ipswich guide. Sign up details are via the Active and Healthy calendar (https://www.ipswich.qld.gov.au/residents/healthy_lifestyle/active-and-healthy-ipswich).
END:VEVENT
END:VCALENDAR