BEGIN:VCALENDAR
VERSION:2.0
PRODID:-//eventon.com NONSGML v1.0//EN
BEGIN:VEVENT
UID:69ecc7dfecea6
DTSTAMP:20260425T235543
DTSTART:20190424T182700Z
DTEND:20190425T135000Z
LOCATION:Redbank Memorial Reserve 
SUMMARY:ANZAC Day service: Redbank
DESCRIPTION: 4:27 am – Dawn service at Honour Stone\,  Redbank Memorial Reserve\,  Bridge Street. &nbsp;
END:VEVENT
END:VCALENDAR