BEGIN:VCALENDAR
VERSION:2.0
PRODID:-//eventon.com NONSGML v1.0//EN
BEGIN:VEVENT
UID:69e4e1edb9687
DTSTAMP:20260420T000845
DTSTART:20190518T093000Z
DTEND:20190518T135000Z
LOCATION:Ipswich Civic Centre 50 Nicholas St\,  Ipswich
SUMMARY:James Reyne – A Crawl To Now
DESCRIPTION: A Crawl To Now is a 90-minute live show featuring songs selected from more than 20 albums. James will be joined on stage by renowned guitarist Josh Owen in acoustic duo format. James Reyne’s songs have provided the soundtrack to endless Australian summers\,  including The Boys Light Up\,  Reckless\,  Beautiful People\,  Lakeside\,  Daughters Of The[..]
END:VEVENT
END:VCALENDAR