BEGIN:VCALENDAR
VERSION:2.0
PRODID:-//eventon.com NONSGML v1.0//EN
BEGIN:VEVENT
UID:69e4f554c61a9
DTSTAMP:20260420T013132
DTSTART:20190501T233000Z
DTEND:20190502T001500Z
LOCATION:Ipswich Central Library 40 South Street
SUMMARY:Story Time at Ipswich Central Library
DESCRIPTION: Enjoy the magic and make new friends while exploring a different theme each month with stories\,  songs and movement. Everyone is welcome. Free.
END:VEVENT
END:VCALENDAR