BEGIN:VCALENDAR
VERSION:2.0
PRODID:-//eventon.com NONSGML v1.0//EN
BEGIN:VEVENT
UID:69e77f9d6abff
DTSTAMP:20260421T234605
DTSTART:20190502T000000Z
DTEND:20190502T020000Z
LOCATION:Redbank Plains Library Moreton Avenue\,  Redbank Plains
SUMMARY:Learn basic PC and Internet skills
DESCRIPTION: Take part in a free beginner level class in using the PC and the Internet. Session delivered by Skills@Top. Book here.
END:VEVENT
END:VCALENDAR