BEGIN:VCALENDAR
VERSION:2.0
PRODID:-//eventon.com NONSGML v1.0//EN
BEGIN:VEVENT
UID:69e8b5e9d9734
DTSTAMP:20260422T215001
DTSTART:20190508T233000Z
DTEND:20190509T003000Z
LOCATION:Goodna State School Hall 1 Albert St\,  Goodna
SUMMARY:Books and Bots - Ready\,  Tech\,  Go
DESCRIPTION: Discover learning and explore stories through play and robot fun. Ages 0-6 years with mums\,  dads and/or carers. Cost: Free. No registration required.
END:VEVENT
END:VCALENDAR