BEGIN:VCALENDAR
VERSION:2.0
PRODID:-//eventon.com NONSGML v1.0//EN
BEGIN:VEVENT
UID:69e9f1abac3cb
DTSTAMP:20260423T201715
DTSTART:20190721T050000Z
DTEND:20190721T135000Z
LOCATION:Ipswich Civic Centre 50 Nicholas St\,  Ipswich
SUMMARY:Troy Cassar-Daley – Greatest Hits Tour
DESCRIPTION: Troy Cassar-Daley has come a long way from the 12-year-old boy from Grafton busking on Peel St at the Tamworth Country Music Festival. Even as he expands the boundaries of what he is capable of musically\,  as the diverse list of collaborators grows longer\,  as his swag of awards and[..]
END:VEVENT
END:VCALENDAR