BEGIN:VCALENDAR
VERSION:2.0
PRODID:-//eventon.com NONSGML v1.0//EN
BEGIN:VEVENT
UID:69ec99ca151e8
DTSTAMP:20260425T203906
DTSTART:20190516T073000Z
DTEND:20190516T090000Z
LOCATION:Fire Station 101 101 Limestone St
SUMMARY:Take your business to the US
DESCRIPTION: Thinking of scaling your business into the US market? Join us for a session with Austrade’s Landing Pad Manager based in San Francisco\,  Gabe Sulkes (linkedin profile). Gabe empowers high-potential Australian start-ups to scale into the United States and will share his insights on the opportunities\,  challenges and ways to[..]
END:VEVENT
END:VCALENDAR