BEGIN:VCALENDAR
VERSION:2.0
PRODID:-//eventon.com NONSGML v1.0//EN
BEGIN:VEVENT
UID:69e7a8d50ffe5
DTSTAMP:20260422T024157
DTSTART:20190604T010000Z
DTEND:20190604T020000Z
LOCATION:Redbank Plaza Library 1 Collingwood Drive\,  Redbank
SUMMARY:Reading Circle
DESCRIPTION: Bring a book\,  enjoy a casual chat and share your favourite reads.
END:VEVENT
END:VCALENDAR