BEGIN:VCALENDAR
VERSION:2.0
PRODID:-//eventon.com NONSGML v1.0//EN
BEGIN:VEVENT
UID:69ecc76db0359
DTSTAMP:20260425T235349
DTSTART:20190621T010000Z
DTEND:20190621T013000Z
LOCATION:Booval Fair Corner of Brisbane & South Station Road\,  Booval
SUMMARY:Story Time at Booval
DESCRIPTION: Nurture your child's love of language and stories at your local shopping centre. Free morning tea and free take home resources. Outside Big W\,  Booval Fair. Bookings Required. Book here. 
END:VEVENT
END:VCALENDAR