BEGIN:VCALENDAR
VERSION:2.0
PRODID:-//eventon.com NONSGML v1.0//EN
BEGIN:VEVENT
UID:69ea046f35aac
DTSTAMP:20260423T213719
DTSTART:20190526T003000Z
DTEND:20190526T020000Z
LOCATION:Cooneana Heritage Centre 1041 Redbank Plains Road
SUMMARY:Early Ipswich Photographers
DESCRIPTION: There are many ways to record the history of a town\,  but none better than by taking photographs. Early photographers have left a legacy of images many of which are available online now\,  having been digitised. Melanie Rush has been active in this field and has much to tell about[..]
END:VEVENT
END:VCALENDAR