BEGIN:VCALENDAR
VERSION:2.0
PRODID:-//eventon.com NONSGML v1.0//EN
BEGIN:VEVENT
UID:69e5e93833a15
DTSTAMP:20260420T185208
DTSTART:20190618T053000Z
DTEND:20190618T070000Z
LOCATION:Queens Park Environment Education Centre Merle Finimore Avenue\,  Ipswich
SUMMARY:Bushland and park volunteer information session
DESCRIPTION: New and existing volunteers are invited to find out how to register as a volunteer on council-owned land\,  gain approval for your activities and be supported for your efforts. Two sessions: 3:30pm-5pm or 5:30pm-7pm (both sessions are the same – come to the one that suits you best). To register[..]
END:VEVENT
END:VCALENDAR