BEGIN:VCALENDAR
VERSION:2.0
PRODID:-//eventon.com NONSGML v1.0//EN
BEGIN:VEVENT
UID:69ea26a6b8751
DTSTAMP:20260424T000318
DTSTART:20190621T220000Z
DTEND:20190622T030000Z
LOCATION:Repco Booval 
SUMMARY:Show and Shine at Booval
DESCRIPTION: Repco at Booval will host a Show and Shine for car enthusiasts. There will be prizes for People's Choice\,  Best Classic Car and Best Hot Wheels. Other fun will include a jumping castle\,  food\,  DJ and supplier market place. More info\,  phone: 3282 0500.
END:VEVENT
END:VCALENDAR