BEGIN:VCALENDAR
VERSION:2.0
PRODID:-//eventon.com NONSGML v1.0//EN
BEGIN:VEVENT
UID:69e4cd3ca3bc9
DTSTAMP:20260419T224028
DTSTART:20190717T081500Z
DTEND:20190717T091500Z
LOCATION:Just Sports n Fitness - Goodna Gym 6 Layard St\,  Goodna
SUMMARY:Yoga: Goodna
DESCRIPTION: A complete mind and body workout to de-stress\,  increase flexibility and build core strength. Cost - $10. This event is listed on Council’s Active and Healthy Ipswich guide. Sign up details are via the Active and Healthy calendar (https://www.ipswich.qld.gov.au/residents/healthy_lifestyle/active-and-healthy-ipswich).
END:VEVENT
END:VCALENDAR