BEGIN:VCALENDAR
VERSION:2.0
PRODID:-//eventon.com NONSGML v1.0//EN
BEGIN:VEVENT
UID:69eadb499a687
DTSTAMP:20260424T125401
DTSTART:20190830T223000Z
DTEND:20190831T050000Z
LOCATION:Cameron Park Easton St\,  Booval 4304
SUMMARY:Home gardener's expo
DESCRIPTION: Glebe Garden Club Ipswich Home Gardener's Expo 2019 Special Guest speakers include: Paul Plant\,  Claire Bickle\,  Jerry Coleby-Williams and Kate Wall. Large Variety of exhibitors\,  food\,  refreshments\,  plant creche\,  entertainment Where:  Cnr Green Street and Glebe Road\,  Booval ( parking at Cameron Park $2) When: Saturday 31st August  8.30 am[..]
END:VEVENT
END:VCALENDAR