BEGIN:VCALENDAR
VERSION:2.0
PRODID:-//eventon.com NONSGML v1.0//EN
BEGIN:VEVENT
UID:69e4e0364b5ae
DTSTAMP:20260420T000126
DTSTART:20191025T093000Z
DTEND:20191025T110000Z
LOCATION:Studio 188 188 Brisbane Street\,  Ipswich
SUMMARY:a night of magic
DESCRIPTION: Australia’s close up magic sensation is coming to Studio 188 for two magical nights only! Immerse yourself with Illusionist Josh Norbido for an evening of astonishing close-up magic\,  baffling mind reading and impossible moments. Very rarely do people get to experience magic up close and personal\,  “A Night Of Magic”[..]
END:VEVENT
END:VCALENDAR