BEGIN:VCALENDAR
VERSION:2.0
PRODID:-//eventon.com NONSGML v1.0//EN
BEGIN:VEVENT
UID:69e74b3fdfcd6
DTSTAMP:20260421T200239
DTSTART:20191016T073000Z
DTEND:20191016T100000Z
LOCATION:Ipswich Central Library 40 South Street
SUMMARY:Trivia with Friends
DESCRIPTION: Pass the word. It’s on again. Gather your friends for tables of 4-6 or just come and join in. Includes light supper. BYO nibblies. Organised by Friends of Ipswich Libraries (FOILS). Wednesday 16 October 2019. 5.30 pm – 8.00 pm. Ipswich Central Library. The Mezzanine. $8.00 per person. Bookings and[..]
END:VEVENT
END:VCALENDAR