BEGIN:VCALENDAR
VERSION:2.0
PRODID:-//eventon.com NONSGML v1.0//EN
BEGIN:VEVENT
UID:69ecc66033d7b
DTSTAMP:20260425T234920
DTSTART:20191012T090000Z
DTEND:20191012T135000Z
LOCATION:Kerwick Hotel 1 kerwick Street
SUMMARY:Live at the Kerwick
DESCRIPTION: Local boys KYTE will be playing at the Kerwick Hotel\,  Redbank for the first time this Saturday night... Come on down and make them feel welcome and listen to a great night of classic 80’s rock 🎶 check it out: https://www.facebook.com/events/1050970391961042/
END:VEVENT
END:VCALENDAR