BEGIN:VCALENDAR
VERSION:2.0
PRODID:-//eventon.com NONSGML v1.0//EN
BEGIN:VEVENT
UID:69e5e92018747
DTSTAMP:20260420T185144
DTSTART:20191101T233000Z
DTEND:20191102T003000Z
LOCATION:
SUMMARY:Francis whiting - the best kind of beautiful
DESCRIPTION: Frances Whiting is one of Australia’s favourite columnists. For over twenty years she has engaged readers in the highs and lows of the every day. She has published two collections of her columns\,  Oh To Be A Marching Girl and That’s A Home Run Tiger!\,  and a novel\,  Walking on[..]
END:VEVENT
END:VCALENDAR