BEGIN:VCALENDAR
VERSION:2.0
PRODID:-//eventon.com NONSGML v1.0//EN
BEGIN:VEVENT
UID:69e51cab66f94
DTSTAMP:20260420T041923
DTSTART:20200319T140000Z
DTEND:20200322T135900Z
LOCATION:Willowbank Raceway 38 Champions Way
SUMMARY:CMC Rocks QLD 2020
DESCRIPTION: CMC Rocks Queensland is the biggest international country and roots festival in the Southern Hemisphere. Delivering an explosive array of international and national country music superstars\,  over three massive days and nights at Willowbank Raceway\,  Ipswich. Visit Discover Ipswich for more information and tickets.
END:VEVENT
END:VCALENDAR