BEGIN:VCALENDAR
VERSION:2.0
PRODID:-//eventon.com NONSGML v1.0//EN
BEGIN:VEVENT
UID:69ecb2c91eb02
DTSTAMP:20260425T222545
DTSTART:20191201T040000Z
DTEND:20191201T060000Z
LOCATION:Nicholas St precinct https://goo.gl/maps/SEnbD1Z3BF9XPLKv7
SUMMARY:VIP Christmas Shopping Event
DESCRIPTION: The Nicholas St precinct is hosting a VIP Christmas night. The event is a special one-day-only shopping event which will include complimentary drinks\,  nibbles and special offers from retailers. The first 150 customers will also receive a free gift bag. Visit the Nicholas St Ipswich Central Facebook page for more[..]
END:VEVENT
END:VCALENDAR