BEGIN:VCALENDAR
VERSION:2.0
PRODID:-//eventon.com NONSGML v1.0//EN
BEGIN:VEVENT
UID:69e4e5d431765
DTSTAMP:20260420T002524
DTSTART:20191123T030000Z
DTEND:20191123T135000Z
LOCATION:Redbank Plaza Shopping Centre 1 Collingwood Drive\,  Redbank
SUMMARY:Santa's Arrival Parade at Redbank Plaza
DESCRIPTION: Get ready for the festive season\,  by joining in Redbank Plaza's Santa’s Arrival Parade. Lots of singing\,  dancing\,  magical falling snow and of course – Santa. The event will be able to be viewed from all three levels of Redbank Plaza. Note: Santa will be available for photos from 2pm[..]
END:VEVENT
END:VCALENDAR