BEGIN:VCALENDAR
VERSION:2.0
PRODID:-//eventon.com NONSGML v1.0//EN
BEGIN:VEVENT
UID:69e4c81f94043
DTSTAMP:20260419T221839
DTSTART:20191124T000000Z
DTEND:20191124T135000Z
LOCATION:Redbank Plaza Shopping Centre 1 Collingwood Drive\,  Redbank
SUMMARY:Photo with Santa at Redbank Plaza
DESCRIPTION: Meet Santa from 10am\,  have your photo taken and each child receives a free storybook. The centre is not taking bookings to meet Santa and there will not be a virtual queue. To meet Santa and have your photo taken\,  you will need to wait in line to meet him. Photos[..]
END:VEVENT
END:VCALENDAR