BEGIN:VCALENDAR
VERSION:2.0
PRODID:-//eventon.com NONSGML v1.0//EN
BEGIN:VEVENT
UID:69ecb289755b7
DTSTAMP:20260425T222441
DTSTART:20191204T213000Z
DTEND:20191204T230000Z
LOCATION:Ipswich Civic Centre 50 Nicholas St\,  Ipswich
SUMMARY:2019 Ipswich International Volunteer Day Free Community Breakfast
DESCRIPTION: To celebrate International Volunteer Day and to acknowledge the City's volunteers\,  Ipswich City Council will be hosting a free community breakfast celebration. The celebration will include breakfast\,  entertainment and lucky door prizes! Bookings essential by Friday\,  22 November 2019. For more information or to register visit here.
END:VEVENT
END:VCALENDAR