BEGIN:VCALENDAR
VERSION:2.0
PRODID:-//eventon.com NONSGML v1.0//EN
BEGIN:VEVENT
UID:69e8b61c3c230
DTSTAMP:20260422T215052
DTSTART:20191208T050000Z
DTEND:20191208T110000Z
LOCATION:Redbank Plains Recreation Reserve 75 Cedar Road
SUMMARY:Redbank Plains Christmas Carols
DESCRIPTION: LiveCity Church is hosting a Redbank Plains Community Christmas Carols. With Christmas carols\,  a food alley\,  jumping castle and more. There will also be a visit from the crew at 96.5 FM from 3pm to 4pm. For more information or to register interest visit here.
END:VEVENT
END:VCALENDAR