BEGIN:VCALENDAR
VERSION:2.0
PRODID:-//eventon.com NONSGML v1.0//EN
BEGIN:VEVENT
UID:69e902b599e19
DTSTAMP:20260423T031741
DTSTART:20200125T050000Z
DTEND:20200125T110000Z
LOCATION:Robelle Domain Springfield Central 
SUMMARY:Pongal Festival 2020
DESCRIPTION: Tamil Association of Queensland proudly presents Maaberum Pongal Kondattam 2020 - Harvest Festival. There will be live performances\,  entertainment\,  food vendors and much more. Email tamilassnqld@gmail.com or call 0432 168 310 for volunteer information. Visit the website for more information and updates: https://www.tamilassociationqld.org Performance Registrations are now open here.
END:VEVENT
END:VCALENDAR