BEGIN:VCALENDAR
VERSION:2.0
PRODID:-//eventon.com NONSGML v1.0//EN
BEGIN:VEVENT
UID:69e4f5806a885
DTSTAMP:20260420T013216
DTSTART:20191201T200000Z
DTEND:20191201T200000Z
LOCATION:Saga Games Shop 1/44 East St\,  Ipswich
SUMMARY:Magic making a difference at Saga Games
DESCRIPTION: Join the community at Saga Games for a special charity Friday Night Magic event. The event is being held to raise money for Bailey\,  11\,  who was recently diagnosed with leukemia. All proceeds from the event will go straight to Bailey and his family to help make ends meet during[..]
END:VEVENT
END:VCALENDAR