BEGIN:VCALENDAR
VERSION:2.0
PRODID:-//eventon.com NONSGML v1.0//EN
BEGIN:VEVENT
UID:69e52faa4ae93
DTSTAMP:20260420T054026
DTSTART:20200111T020000Z
DTEND:20200111T033000Z
LOCATION:Springfield Central Library Corner Main St and Sirius Drive\,  Springfield Central
SUMMARY:Puppetmaking Workshop at Springfield Central Library - workshop 2
DESCRIPTION: How do you see yourself? Create a puppet that embodies your personality and/or physical features. Participants need to bring an A5 photo of their head to use in the workshop. Presented by Reverse Garbage. Suitable for ages 10 to 17 with parents/carers. Bookings required. Book here.
END:VEVENT
END:VCALENDAR