BEGIN:VCALENDAR
VERSION:2.0
PRODID:-//eventon.com NONSGML v1.0//EN
BEGIN:VEVENT
UID:69e5e5e89557b
DTSTAMP:20260420T183800
DTSTART:20200222T070000Z
DTEND:20200222T120000Z
LOCATION:North Ipswich Reserve Corporate Centre 43 The Terrace\,  North Ipswich
SUMMARY:Ipswich Hospice Trivia Night
DESCRIPTION: Get excited for the first Ipswich Hospice Trivia Night of 2020. A night of trivia\,  games\,  prizes\,  refreshments and raffles. Doors open at 5pm with trivia starting at 6pm in the Corporate Centre at North Ipswich Reserve. Cost is $15 per person or $140 for a table of 10. There[..]
END:VEVENT
END:VCALENDAR