BEGIN:VCALENDAR
VERSION:2.0
PRODID:-//eventon.com NONSGML v1.0//EN
BEGIN:VEVENT
UID:69e75dcaca9ea
DTSTAMP:20260421T212146
DTSTART:20200117T070000Z
DTEND:20200117T090000Z
LOCATION:The Coffee Club Orion Orion Springfield Central\,  1 Main Street
SUMMARY:Watercolour & Wine Class
DESCRIPTION: Enjoy a sip and learn to paint in water colour at The Coffee Club Orion Tickets include a choice of meal (3 options to choose from)\,  a glass of house wine and everything needed to create a masterpiece to take home. Price: $50 each Bookings essential. For more information and[..]
END:VEVENT
END:VCALENDAR