BEGIN:VCALENDAR
VERSION:2.0
PRODID:-//eventon.com NONSGML v1.0//EN
BEGIN:VEVENT
UID:69e622fabf17a
DTSTAMP:20260420T225834
DTSTART:20200311T233000Z
DTEND:20200312T001500Z
LOCATION:Ipswich Central Library 40 South Street
SUMMARY:Story Time at Ipswich Central Library
DESCRIPTION: Enjoy the magic and make new friends while exploring a different theme each month with stories\,  songs and movement. Share in the fun of stories\,  rhymes\,  songs and games to build important language and reading readiness skills. Everyone is welcome at free Story Time sessions at Ipswich Central Library\,  held[..]
END:VEVENT
END:VCALENDAR