BEGIN:VCALENDAR
VERSION:2.0
PRODID:-//eventon.com NONSGML v1.0//EN
BEGIN:VEVENT
UID:69e76bfcc460c
DTSTAMP:20260421T222220
DTSTART:20200329T233000Z
DTEND:20200330T000000Z
LOCATION:Springfield Central Library Corner Main St and Sirius Drive\,  Springfield Central
SUMMARY:Book Beats at Springfield Central Library
DESCRIPTION: Get into the rhythm of Book Beats\,  a program that starts with a story and follows this with music\,  rhymes\,  movement and action. Focuses on early language learning through music and movement. Held on the last Monday of the month. No registration required.
END:VEVENT
END:VCALENDAR