BEGIN:VCALENDAR
VERSION:2.0
PRODID:-//eventon.com NONSGML v1.0//EN
BEGIN:VEVENT
UID:69e625289c08f
DTSTAMP:20260420T230752
DTSTART:20200315T233000Z
DTEND:20200316T000000Z
LOCATION:Redbank Plaza Library 1 Collingwood Drive\,  Redbank
SUMMARY:Baby Rhyme Time - week 3 - at Redbank Plaza Library
DESCRIPTION: Share rhymes\,  songs\,  games and stories to support your baby's early language learning. Meet other parents in a caring and supportive environment. This is a four-week program for babies aged 0-12 months with mums\,  dads and/or carers. Bookings essential. Book here. Book into session using your baby's name only.
END:VEVENT
END:VCALENDAR