BEGIN:VCALENDAR
VERSION:2.0
PRODID:-//eventon.com NONSGML v1.0//EN
BEGIN:VEVENT
UID:69ea19bfd7b8b
DTSTAMP:20260423T230815
DTSTART:20200314T230000Z
DTEND:20200315T050000Z
LOCATION:RAAF Amberley Aviation Heritage Centre Behm's Road
SUMMARY:RAAF Amberley Aviation Heritage Centre Public Open Day
DESCRIPTION: Public Open Days are always free of charge and occur on the third Sunday of each month\,  January - November\,  except public holidays. Opening hours of the centre are 9am - 3pm\,  however base access ceases at 2pm to enable visitors to park and have sufficient time to view the[..]
END:VEVENT
END:VCALENDAR